Workbook
Name año: #REF!
Name año: #REF!
Name Category: #REF!
Name Category: #REF!
Name CORE_SF: '[2]ISO 22301 Auditor Checklist'!#REF!
Name End_Bal: '[3]Amortización Francés'!$J$21:$J$38
Name Feriados: '[4]Días Festivos y Laborables'!$C$4:$C$65
Name Interest_Rate: '[3]Amortización Francés'!$E$9
Name Loan_Amount: '[3]Amortización Francés'!$E$8
Name Loan_Start: '[3]Amortización Francés'!$E$12
Name Loan_Years: '[3]Amortización Francés'!$E$10
Name Number_of_Payments: MATCH(0.01,End_Bal,-1)+1
Name Ref_2: [5]Diario!$F$6
Name Ref_2: [6]Diario!$F$6
Name Relación: OFFSET([7]!Ref.,1,0,COUNTA('[7]Gastos ingresos'!$B$1:$B$65536)-COUNTA('[7]Gastos ingresos'!$B$11:[7]!Ref.),1)
Name Transaction: #REF!
Name Transaction: #REF!
Name Type: '[8]Maintenance Work Order'!#REF!
Name Type: #REF!
Name Values_Entered: IF(Loan_Amount*Interest_Rate*Loan_Years*Loan_Start>0,1,0)
Name valuevx: 42.314159

Sheet DESCARGA DE RESPONSABILIDAD
B2: https://formatoescrito.com/
B3: Cualquier artículo, plantilla o información proporcionada por formatoescrito en el sitio web es solo para referencia y uso educactivo. Si bien nos esforzamos por mantener la información actualizada y correcta, no hacemos representaciones ni garantías de ningún tipo, expresas o implícitas, sobre la integridad, precisión, fiabilidad o disponibilidad con respecto al sitio web o la información, artículos, plantillas o gráficos relacionados contenidos en el sitio web. Por lo tanto, cualquier confianza que deposite en dicha información es estrictamente bajo su propio riesgo.

Sheet Plan de Trabajo
G2: PLAN DE TRABAJO
B3: Nombre del proyecto: | F3: Responsable general: | J3: Fecha inicio:
B5: # | C5: Tarea / Actividad | D5: Fase | E5: Responsable | F5: Fecha inicio | G5: Fecha fin | H5: Duración (días) | I5: Estado | J5: % Avance | K5: Prioridad | L5: Notas
B6: 1 | C6: Definir alcance y objetivos del proyecto | D6: Planificación | F6: 46189 | G6: 46193 | H6: =G6-F6+1 -> 5 | I6: Pendiente | J6: 0 | K6: Media
B7: 2 | C7: Asignar recursos y responsables | D7: Ejecución | F7: 46194 | G7: 46198 | H7: =G7-F7+1 -> 5 | I7: Pendiente | J7: 0 | K7: Media
B8: 3 | C8: Desarrollar tarea/entregable principal | D8: Ejecución | F8: 46199 | G8: 46203 | H8: =G8-F8+1 -> 5 | I8: Pendiente | J8: 0 | K8: Media
B9: 4 | C9: Realizar seguimiento y ajustes | D9: Ejecución | F9: 46204 | G9: 46208 | H9: =G9-F9+1 -> 5 | I9: Pendiente | J9: 0 | K9: Media
B10: 5 | C10: Revisar resultados y control de calidad | D10: Revisión | F10: 46209 | G10: 46213 | H10: =G10-F10+1 -> 5 | I10: Pendiente | J10: 0 | K10: Media
B11: 6 | C11: Entrega final y cierre del proyecto | D11: Cierre | F11: 46214 | G11: 46218 | H11: =G11-F11+1 -> 5 | I11: Pendiente | J11: 0 | K11: Media
B12: 7 | C12: Definir alcance y objetivos del proyecto | D12: Planificación | F12: 46189 | G12: 46193 | H12: =G12-F12+1 -> 5 | I12: Pendiente | J12: 0 | K12: Media
B13: 8 | C13: Asignar recursos y responsables | D13: Ejecución | F13: 46194 | G13: 46198 | H13: =G13-F13+1 -> 5 | I13: Pendiente | J13: 0 | K13: Media
B14: 9 | C14: Desarrollar tarea/entregable principal | D14: Ejecución | F14: 46199 | G14: 46203 | H14: =G14-F14+1 -> 5 | I14: Pendiente | J14: 0 | K14: Media
B15: 10 | C15: Realizar seguimiento y ajustes | D15: Ejecución | F15: 46204 | G15: 46208 | H15: =G15-F15+1 -> 5 | I15: Pendiente | J15: 0 | K15: Media
B16: 11 | C16: Revisar resultados y control de calidad | D16: Revisión | F16: 46209 | G16: 46213 | H16: =G16-F16+1 -> 5 | I16: Pendiente | J16: 0 | K16: Media
B17: 12 | C17: Entrega final y cierre del proyecto | D17: Cierre | F17: 46214 | G17: 46218 | H17: =G17-F17+1 -> 5 | I17: Pendiente | J17: 0 | K17: Media
... B20: 15 | C20: Desarrollar tarea/entregable principal | D20: Ejecución | F20: 46199 | G20: 46203 | H20: =G20-F20+1 -> 5 | I20: Pendiente | J20: 0 | K20: Media

Sheet Hoja1

Sheet Gantt
A1: DIAGRAMA DE GANTT
A3: # | B3: Tarea | C3: Inicio | D3: Fin | E3: Duración (días) | F3: ='Plan de Trabajo'!F6+0 -> 46189 | G3: ='Plan de Trabajo'!F6+1 -> 46190 | H3: ='Plan de Trabajo'!F6+2 -> 46191 | I3: ='Plan de Trabajo'!F6+3 -> 46192 | J3: ='Plan de Trabajo'!F6+4 -> 46193 | K3: ='Plan de Trabajo'!F6+5 -> 46194 | L3: ='Plan de Trabajo'!F6+6 -> 46195 | M3: ='Plan de Trabajo'!F6+7 -> 46196 | N3: ='Plan de Trabajo'!F6+8 -> 46197 | O3: ='Plan de Trabajo'!F6+9 -> 46198 | P3: ='Plan de Trabajo'!F6+10 -> 46199 | Q3: ='Plan de Trabajo'!F6+11 -> 46200 | R3: ='Plan de Trabajo'!F6+12 -> 46201 | S3: ='Plan de Trabajo'!F6+13 -> 46202 | T3: ='Plan de Trabajo'!F6+14 -> 46203 | U3: ='Plan de Trabajo'!F6+15 -> 46204 | V3: ='Plan de Trabajo'!F6+16 -> 46205 | W3: ='Plan de Trabajo'!F6+17 -> 46206 | X3: ='Plan de Trabajo'!F6+18 -> 46207 | Y3: ='Plan de Trabajo'!F6+19 -> 46208 | Z3: ='Plan de Trabajo'!F6+20 -> 46209 | AA3: ='Plan de Trabajo'!F6+21 -> 46210 | AB3: ='Plan de Trabajo'!F6+22 -> 46211 | AC3: ='Plan de Trabajo'!F6+23 -> 46212 | AD3: ='Plan de Trabajo'!F6+24 -> 46213 | AE3: ='Plan de Trabajo'!F6+25 -> 46214 | AF3: ='Plan de Trabajo'!F6+26 -> 46215 | AG3: ='Plan de Trabajo'!F6+27 -> 46216 | AH3: ='Plan de Trabajo'!F6+28 -> 46217 | AI3: ='Plan de Trabajo'!F6+29 -> 46218
A4: ='Plan de Trabajo'!B6 -> 1 | B4: ='Plan de Trabajo'!C6 -> Definir alcance y objetivos del proyecto | C4: ='Plan de Trabajo'!F6 -> 46189 | D4: ='Plan de Trabajo'!G6 -> 46193 | E4: ='Plan de Trabajo'!H6 -> 5
A5: ='Plan de Trabajo'!B7 -> 2 | B5: ='Plan de Trabajo'!C7 -> Asignar recursos y responsables | C5: ='Plan de Trabajo'!F7 -> 46194 | D5: ='Plan de Trabajo'!G7 -> 46198 | E5: ='Plan de Trabajo'!H7 -> 5
A6: ='Plan de Trabajo'!B8 -> 3 | B6: ='Plan de Trabajo'!C8 -> Desarrollar tarea/entregable principal | C6: ='Plan de Trabajo'!F8 -> 46199 | D6: ='Plan de Trabajo'!G8 -> 46203 | E6: ='Plan de Trabajo'!H8 -> 5
A7: ='Plan de Trabajo'!B9 -> 4 | B7: ='Plan de Trabajo'!C9 -> Realizar seguimiento y ajustes | C7: ='Plan de Trabajo'!F9 -> 46204 | D7: ='Plan de Trabajo'!G9 -> 46208 | E7: ='Plan de Trabajo'!H9 -> 5
A8: ='Plan de Trabajo'!B10 -> 5 | B8: ='Plan de Trabajo'!C10 -> Revisar resultados y control de calidad | C8: ='Plan de Trabajo'!F10 -> 46209 | D8: ='Plan de Trabajo'!G10 -> 46213 | E8: ='Plan de Trabajo'!H10 -> 5
A9: ='Plan de Trabajo'!B11 -> 6 | B9: ='Plan de Trabajo'!C11 -> Entrega final y cierre del proyecto | C9: ='Plan de Trabajo'!F11 -> 46214 | D9: ='Plan de Trabajo'!G11 -> 46218 | E9: ='Plan de Trabajo'!H11 -> 5
