Workbook
Name año: #REF!
Name Category: #REF!
Name CORE_SF: '[2]ISO 22301 Auditor Checklist'!#REF!
Name End_Bal: '[1]Amortización Francés'!$J$21:$J$38
Name Feriados: '[3]Días Festivos y Laborables'!$C$4:$C$65
Name Interest_Rate: '[1]Amortización Francés'!$E$9
Name Loan_Amount: '[1]Amortización Francés'!$E$8
Name Loan_Start: '[1]Amortización Francés'!$E$12
Name Loan_Years: '[1]Amortización Francés'!$E$10
Name Number_of_Payments: MATCH(0.01,End_Bal,-1)+1
Name Ref_2: [4]Diario!$F$6
Name Ref_2: [5]Diario!$F$6
Name Relación: OFFSET([6]!Ref.,1,0,COUNTA('[6]Gastos ingresos'!$B$1:$B$65536)-COUNTA('[6]Gastos ingresos'!$B$11:[6]!Ref.),1)
Name Transaction: #REF!
Name Type: '[7]Maintenance Work Order'!#REF!
Name Type: #REF!
Name Values_Entered: IF(Loan_Amount*Interest_Rate*Loan_Years*Loan_Start>0,1,0)
Name valuevx: 42.314159

Sheet DESCARGA DE RESPONSABILIDAD
B2: https://formatoescrito.com/
B3: Cualquier artículo, plantilla o información proporcionada por formatoescrito en el sitio web es solo para referencia y uso educactivo. Si bien nos esforzamos por mantener la información actualizada y correcta, no hacemos representaciones ni garantías de ningún tipo, expresas o implícitas, sobre la integridad, precisión, fiabilidad o disponibilidad con respecto al sitio web o la información, artículos, plantillas o gráficos relacionados contenidos en el sitio web. Por lo tanto, cualquier confianza que deposite en dicha información es estrictamente bajo su propio riesgo.

Sheet  analisis de costo beneficio
B2: Análisis costo-beneficio | F2: [Nombre compañía]
B4: [Producto/Iniciativa/Servicio propuesto]
B5: costos cuantitativos | C5: Año 1 | D5: Año 2 | E5: Año 3 | F5: Año 4 | G5: Año 5 | H5: Total
B6: Costos no recurrentes
B7: Hardware | H7: =SUM(C7:G7) -> 0
B8: Servidores | H8: =SUM(C8:G8) -> 0
B9: Escritorio | H9: =SUM(C9:G9) -> 0
B10: Equipo de telecomunicaciones | H10: =SUM(C10:G10) -> 0
B11: Software (empaquetado o personalizado) | H11: =SUM(C11:G11) -> 0
B12: Mejoras en la sala de cómputo | H12: =SUM(C12:G12) -> 0
B13: Muebles y accesorios | H13: =SUM(C13:G13) -> 0
B14: Costos de organización/apoyo del proyecto | H14: =SUM(C14:G14) -> 0
B15: Planificación (previa aprobación) | H15: =SUM(C15:G15) -> 0
B16: Obtención | H16: =SUM(C16:G16) -> 0
B17: Negociaciones de contratos | H17: =SUM(C17:G17) -> 0
B18: Labor | H18: =SUM(C18:G18) -> 0
... B25: Publicar revisiones de implementación | H25: =SUM(C25:G25) -> 0
B26: Total Costos no recurrentes | C26: =SUM(C7:C25) -> 0 | D26: =SUM(D7:D25) -> 0 | E26: =SUM(E7:E25) -> 0 | F26: =SUM(F7:F25) -> 0 | G26: =SUM(G7:G25) -> 0 | H26: =SUM(H7:H25) -> 0
B28: Costos recurrentes
B29: Hardware software | H29: =SUM(C29:G29) -> 0
B30: Mantenimiento y actualizaciones de software | H30: =SUM(C30:G30) -> 0
B31: Suministros para computadora | H31: =SUM(C31:G31) -> 0
B32: Escritorios (incrementales al proyecto) | H32: =SUM(C32:G32) -> 0
B33: Soporte técnico | H33: =SUM(C33:G33) -> 0
B34: Mano de obra adicional en curso | H34: =SUM(C34:G34) -> 0
B35: Costos de personal de TI (incluidos los beneficios) | H35: =SUM(C35:G35) -> 0
B36: Entrenamiento de usuario | H36: =SUM(C36:G36) -> 0
B37: Otro | H37: =SUM(C37:G37) -> 0
B38: telecomunicaciones | H38: =SUM(C38:G38) -> 0
B39: Arrendamientos de oficinas | H39: =SUM(C39:G39) -> 0
B40: Total Costos recurrentes | C40: =SUM(C29:C39) -> 0 | D40: =SUM(D29:D39) -> 0 | E40: =SUM(E29:E39) -> 0 | F40: =SUM(F29:F39) -> 0 | G40: =SUM(G29:G39) -> 0 | H40: =SUM(H29:H39) -> 0
B42: Total Costos | C42: =C40+C26 -> 0 | D42: =D40+D26 -> 0 | E42: =E40+E26 -> 0 | F42: =F40+F26 -> 0 | G42: =G40+G26 -> 0 | H42: =H40+H26 -> 0
B44: BENEFICIOS CUANTITATIVOS | C44: Año 1 | D44: Año 2 | E44: Año 3 | F44: Año 4 | G44: Año 5 | H44: Total
B45: Ingresos
B46: (Ingrese las fuentes de ingresos aquí) | H46: =SUM(C46:G46) -> 0
H47: =SUM(C47:G47) -> 0
H48: =SUM(C48:G48) -> 0
B49: Total ingresos | C49: =SUM(C46:C48) -> 0 | D49: =SUM(D46:D48) -> 0 | E49: =SUM(E46:E48) -> 0 | F49: =SUM(F46:F48) -> 0 | G49: =SUM(G46:G48) -> 0 | H49: =SUM(H46:H48) -> 0
B51: Ahorro de costos
B52: Disminución del costo de los servicios prestados. | H52: =SUM(C52:G52) -> 0
...

Sheet Análisis suma
B3: Análisis cuantitativo | C3: Año 1 | D3: Año 2 | E3: Año 3 | F3: Año 4 | G3: Año 5 | H3: Total
B4: Beneficios
B5: Ahorro de costes | C5: =' analisis de costo beneficio'!C60 -> 0 | D5: =' analisis de costo beneficio'!D60 -> 0 | E5: =' analisis de costo beneficio'!E60 -> 0 | F5: =' analisis de costo beneficio'!F60 -> 0 | G5: =' analisis de costo beneficio'!G60 -> 0 | H5: =' analisis de costo beneficio'!H60 -> 0
B6: Reducción de costos | C6: =' analisis de costo beneficio'!C65 -> 0 | D6: =' analisis de costo beneficio'!D65 -> 0 | E6: =' analisis de costo beneficio'!E65 -> 0 | F6: =' analisis de costo beneficio'!F65 -> 0 | G6: =' analisis de costo beneficio'!G65 -> 0 | H6: =' analisis de costo beneficio'!H65 -> 0
B7: Ingresos | C7: =' analisis de costo beneficio'!C49 -> 0 | D7: =' analisis de costo beneficio'!D49 -> 0 | E7: =' analisis de costo beneficio'!E49 -> 0 | F7: =' analisis de costo beneficio'!F49 -> 0 | G7: =' analisis de costo beneficio'!G49 -> 0 | H7: =' analisis de costo beneficio'!H49 -> 0
B8: Otro | C8: =' analisis de costo beneficio'!C70 -> 0 | D8: =' analisis de costo beneficio'!D70 -> 0 | E8: =' analisis de costo beneficio'!E70 -> 0 | F8: =' analisis de costo beneficio'!F70 -> 0 | G8: =' analisis de costo beneficio'!G70 -> 0 | H8: =' analisis de costo beneficio'!H70 -> 0
B9: Total Beneficios | C9: =' analisis de costo beneficio'!C72 -> 0 | D9: =' analisis de costo beneficio'!D72 -> 0 | E9: =' analisis de costo beneficio'!E72 -> 0 | F9: =' analisis de costo beneficio'!F72 -> 0 | G9: =' analisis de costo beneficio'!G72 -> 0 | H9: =' analisis de costo beneficio'!H72 -> 0
B10: costos
B11: No recurrente | C11: =' analisis de costo beneficio'!C26 -> 0 | D11: =' analisis de costo beneficio'!D26 -> 0 | E11: =' analisis de costo beneficio'!E26 -> 0 | F11: =' analisis de costo beneficio'!F26 -> 0 | G11: =' analisis de costo beneficio'!G26 -> 0 | H11: =' analisis de costo beneficio'!H26 -> 0
B12: Periódico | C12: =' analisis de costo beneficio'!C40 -> 0 | D12: =' analisis de costo beneficio'!D40 -> 0 | E12: =' analisis de costo beneficio'!E40 -> 0 | F12: =' analisis de costo beneficio'!F40 -> 0 | G12: =' analisis de costo beneficio'!G40 -> 0 | H12: =' analisis de costo beneficio'!H40 -> 0
B13: Costos totales | C13: =' analisis de costo beneficio'!C42 -> 0 | D13: =' analisis de costo beneficio'!D42 -> 0 | E13: =' analisis de costo beneficio'!E42 -> 0 | F13: =' analisis de costo beneficio'!F42 -> 0 | G13: =' analisis de costo beneficio'!G42 -> 0 | H13: =' analisis de costo beneficio'!H42 -> 0
B14: Beneficio o costo neto | C14: =C9-C13 -> 0 | D14: =D9-D13 -> 0 | E14: =E9-E13 -> 0 | F14: =F9-F13 -> 0 | G14: =G9-G13 -> 0 | H14: =H9-H13 -> 0
